View In:
ArcGIS JavaScript
ArcGIS Online Map Viewer
ArcGIS Earth
ArcGIS Pro
Service Description:
Map Name: Layers
Legend
All Layers and Tables
Layers:
Description: Salinity is a fundamental environmental parameter that structures estuarine ecosystems. Salinity was measured along surface water transects and in depth profiles in each of the 5 major Georgia Rivers (Savannah, Ogeechee, Altamaha, Satilla, and St. Marys Rivers) and in 8 salt marsh estuaries (Wilmington River, Little Ogeechee/Forest River, Medway, South Newport, Sapelo, Turtle/Brunswick, Crooked Rivers and White Oak Creek) to examine the salinity spatial distribution during high discharge (winter) and low discharge (summer) periods. Surveys in the major rivers were conducted four times, twice at high and low discharge, wheras salt marsh estuaries were only sampled once at high and low discharge. the Georgia Coastal Management Porgram funded this work to enhance proactively plan for wetlands transition and migration with ongoing sea level rise.
Copyright Text: Dr. Clark Alexander Skidaway Institute of Oceanography University of Georgia
Spatial Reference:
102100
(3857)
LatestVCSWkid(0)
Single Fused Map Cache: true
Tile Info:
- Height: 256.0
- Width: 256.0
- DPI: 96.0
-
Levels of Detail: 20
-
Level ID: 1
[ Start Tile, End Tile ]
- Resolution: 78271.5169639999
- Scale: 2.95828763795777E8
-
Level ID: 2
[ Start Tile, End Tile ]
- Resolution: 39135.7584820001
- Scale: 1.47914381897889E8
-
Level ID: 3
[ Start Tile, End Tile ]
- Resolution: 19567.8792409999
- Scale: 7.3957190948944E7
-
Level ID: 4
[ Start Tile, End Tile ]
- Resolution: 9783.93962049996
- Scale: 3.6978595474472E7
-
Level ID: 5
[ Start Tile, End Tile ]
- Resolution: 4891.96981024998
- Scale: 1.8489297737236E7
- Format: PNG
- Compression Quality: 0.0
- Origin: X: -2.0037508342787E7
Y: 2.0037508342787E7
- Spatial Reference: 102100
(3857)
LatestVCSWkid(0)
Storage Info:
- Storage Format: esriMapCacheStorageModeCompactV2
- Packet Size: 128
Initial Extent:
XMin: -9149278.560651004
YMin: 3693217.635874546
XMax: -8962006.294048995
YMax: 3805937.7049149945
Spatial Reference: 102100
(3857)
LatestVCSWkid(0)
Full Extent:
XMin: -9111865.4494
YMin: 3594830.786200002
XMax: -8999419.4053
YMax: 3795884.9944999963
Spatial Reference: 102100
(3857)
LatestVCSWkid(0)
Units: esriMeters
Supported Image Format Types: PNG32,PNG24,PNG,JPG,DIB,TIFF,EMF,PS,PDF,GIF,SVG,SVGZ,BMP
Document Info:
Title:
Author:
Comments:
Subject:
Category:
Keywords:
AntialiasingMode: None
TextAntialiasingMode: Force
Supports Dynamic Layers: false
MaxRecordCount: 1000
MaxImageHeight: 4096
MaxImageWidth: 4096
Supported Query Formats: JSON, geoJSON, PBF
Supports Query Data Elements: true
Min Scale: 9244648.868618
Max Scale: 1128.497176
Supports Datum Transformation: true
Child Resources:
Info
Supported Operations:
Export Map
Identify
QueryLegends
QueryDomains
Find
Return Updates
Generate KML