View In:
ArcGIS JavaScript
ArcGIS Online map viewer
Google Earth
ArcMap
ArcGIS Explorer
View Footprint In:
ArcGIS Online map viewer
Service Description: Automatic Identification Systems (AIS) are a navigation safety device that transmits and monitors the
location and characteristics of many vessels in U.S. and international waters in real-time. This dataset
represents the density of all vessel traffic in 2012 for the Georgia Coast with AIS transponders in 100 meter grid cells. The dataset is best interpreted using a high to low density scale and does not represent actual vessel counts. Raw data downloaded directly from Marine Cadastre
Map Name: Layers
Legend
All Layers and Tables
Layers:
Description:
Copyright Text: Georgia Tech Center for GIS and Georgia Department of Natural Resources, Coastal Resources Division
Spatial Reference:
102100
(3857)
Single Fused Map Cache: true
Tile Info:
- Height: 256
- Width: 256
- DPI: 96
-
Levels of Detail: 20
-
Level ID: 0
[ Start Tile, End Tile ]
- Resolution: 156543.03392800014
- Scale: 5.91657527591555E8
-
Level ID: 1
[ Start Tile, End Tile ]
- Resolution: 78271.51696399994
- Scale: 2.95828763795777E8
-
Level ID: 2
[ Start Tile, End Tile ]
- Resolution: 39135.75848200009
- Scale: 1.47914381897889E8
-
Level ID: 3
[ Start Tile, End Tile ]
- Resolution: 19567.87924099992
- Scale: 7.3957190948944E7
-
Level ID: 4
[ Start Tile, End Tile ]
- Resolution: 9783.93962049996
- Scale: 3.6978595474472E7
-
Level ID: 5
[ Start Tile, End Tile ]
- Resolution: 4891.96981024998
- Scale: 1.8489297737236E7
- Format: MIXED
- Compression Quality: 75.0
- Origin: X: -2.0037508342787E7
Y: 2.0037508342787E7
- Spatial Reference: 102100
(3857)
Initial Extent:
XMin: -9172341.64159658
YMin: 3674474.2739669965
XMax: -8825075.32206394
YMax: 3883495.525342833
Spatial Reference: 102100
Full Extent:
XMin: -9096950.075183822
YMin: 3251513.8307649978
XMax: -8683450.075183822
YMax: 3936713.8307649978
Spatial Reference: 102100
Units: esriMeters
Supported Image Format Types: PNG32,PNG24,PNG,JPG,DIB,TIFF,EMF,PS,PDF,GIF,SVG,SVGZ,BMP
Document Info:
Title:
Author:
Comments: Automatic Identification Systems (AIS) are a navigation safety device that transmits and monitors the
location and characteristics of many vessels in U.S. and international waters in real-time. This dataset
represents the density of all vessel traffic in 2012 for the Georgia Coast with AIS transponders in 100 meter grid cells. The dataset is best interpreted using a high to low density scale and does not represent actual vessel counts. Raw data downloaded directly from Marine Cadastre
Subject: This dataset
represents the density of all vessel traffic in 2012 for the US Georgia Coast with AIS transponders in 100 meter grid cells.
Category:
Keywords:
AntialiasingMode: None
TextAntialiasingMode: Force
Supports Dynamic Layers: false
MaxRecordCount: 1000
MaxImageHeight: 4096
MaxImageWidth: 4096
Supported Query Formats: JSON, AMF, geoJSON
Min Scale: 3.6978595474472E7
Max Scale: 4513.988705
Child Resources:
Info
Supported Operations:
Export Map
Identify
Find
Return Updates
Generate KML