{ "currentVersion": 11.3, "serviceDescription": "
To assess the accuracy of the LIDAR-derived DEM the DEM was compared to the RTK ground truth training data at 297 locations to calculate the mean vertical error. We developed habitat-specific correction factors for six cover classes: <\/SPAN><\/SPAN>three height classes of <\/SPAN><\/SPAN>Spartina alterniflora <\/SPAN><\/SPAN>(tall, medium, short); <\/SPAN><\/SPAN>Juncus roemerianus/Schoenoplectus spp.<\/SPAN><\/SPAN>; <\/SPAN><\/SPAN>Spartina cynosuroides/Schoenoplectus tabernaemontani<\/SPAN><\/SPAN>; and marsh meadow (<\/SPAN><\/SPAN>Salicornia virginica<\/SPAN><\/SPAN>(<\/SPAN><\/SPAN>Sarcoconia sp.<\/SPAN><\/SPAN>), <\/SPAN><\/SPAN>Distichlis spicata<\/SPAN><\/SPAN>, <\/SPAN><\/SPAN>Batis maritima)<\/SPAN><\/SPAN>. Class-specific correction factors were derived from the RTK training data set by subtracting the surveyed RTK elevation from the DEM elevation at the corresponding x/y coordinate of each GCP and represented the mean error for each cover class. The, overall mean vertical error the unmodified DEM was was 0.44 ft (fundamental vertical accuracy (FVA) of 1.54 ft), over predicting ground elevations. The mean errors for the different dominant species cover classes ranged from -0.13 (marsh meadow) to 0.90 ft (<\/SPAN><\/SPAN>J. roemerianus/ Schoenoplectus spp.<\/SPAN><\/SPAN>), with taller vegetation having larger errors.<\/SPAN><\/SPAN><\/P> The habitat classification was combined with the unmodified LIDAR-derived DEMs and the DEM correction factors to correct the DEMs (on a habitat classification pixel-pixel basis). Following the method described in Hladik and Alber (2012), the habitat classification raster was brought into ArcGIS. Next, the random forest classified raster was reclassed by assigning a habitat-specific correction factor to each dominant class. The mud and unvegetated classes were given a correction factor of zero. This produced a \u201cCorrection Factor\u201d DEM with values corresponding to the dominant class-specific correction factors. The \u201cCorrection Factor\u201d DEM was then subtracted from the \u201cUnmodified\u201d DEM using the Raster Math tool in ArcGIS (Spatial Analyst toolbox) to produce a \u201cModified\u201d DEM. The application of the derived correction factors and subsequent DEM modification based on the random forest classification were successful and greatly improved the accuracy of the LIDAR-derived DEM, reducing the overall mean DEM error from 0.40 to -0.07 ft and the FVA from 1.68 to 1.42 ft based on the reserved RTK validation data (N=299),. The slight negative value for the overall error indicates that the correction factors produced a DEM surface that was slightly lower than RTK elevations, but no classes were significantly different in comparison to RTK GCPs.<\/SPAN><\/SPAN><\/P><\/DIV><\/DIV><\/DIV>",
"name": "Coast/DEMWaterLand",
"description": " To assess the accuracy of the LIDAR-derived DEM the DEM was compared to the RTK ground truth training data at 297 locations to calculate the mean vertical error. We developed habitat-specific correction factors for six cover classes: <\/SPAN><\/SPAN>three height classes of <\/SPAN><\/SPAN>Spartina alterniflora <\/SPAN><\/SPAN>(tall, medium, short); <\/SPAN><\/SPAN>Juncus roemerianus/Schoenoplectus spp.<\/SPAN><\/SPAN>; <\/SPAN><\/SPAN>Spartina cynosuroides/Schoenoplectus tabernaemontani<\/SPAN><\/SPAN>; and marsh meadow (<\/SPAN><\/SPAN>Salicornia virginica<\/SPAN><\/SPAN>(<\/SPAN><\/SPAN>Sarcoconia sp.<\/SPAN><\/SPAN>), <\/SPAN><\/SPAN>Distichlis spicata<\/SPAN><\/SPAN>, <\/SPAN><\/SPAN>Batis maritima)<\/SPAN><\/SPAN>. Class-specific correction factors were derived from the RTK training data set by subtracting the surveyed RTK elevation from the DEM elevation at the corresponding x/y coordinate of each GCP and represented the mean error for each cover class. The, overall mean vertical error the unmodified DEM was was 0.44 ft (fundamental vertical accuracy (FVA) of 1.54 ft), over predicting ground elevations. The mean errors for the different dominant species cover classes ranged from -0.13 (marsh meadow) to 0.90 ft (<\/SPAN><\/SPAN>J. roemerianus/ Schoenoplectus spp.<\/SPAN><\/SPAN>), with taller vegetation having larger errors.<\/SPAN><\/SPAN><\/P> The habitat classification was combined with the unmodified LIDAR-derived DEMs and the DEM correction factors to correct the DEMs (on a habitat classification pixel-pixel basis). Following the method described in Hladik and Alber (2012), the habitat classification raster was brought into ArcGIS. Next, the random forest classified raster was reclassed by assigning a habitat-specific correction factor to each dominant class. The mud and unvegetated classes were given a correction factor of zero. This produced a \u201cCorrection Factor\u201d DEM with values corresponding to the dominant class-specific correction factors. The \u201cCorrection Factor\u201d DEM was then subtracted from the \u201cUnmodified\u201d DEM using the Raster Math tool in ArcGIS (Spatial Analyst toolbox) to produce a \u201cModified\u201d DEM. The application of the derived correction factors and subsequent DEM modification based on the random forest classification were successful and greatly improved the accuracy of the LIDAR-derived DEM, reducing the overall mean DEM error from 0.40 to -0.07 ft and the FVA from 1.68 to 1.42 ft based on the reserved RTK validation data (N=299),. The slight negative value for the overall error indicates that the correction factors produced a DEM surface that was slightly lower than RTK elevations, but no classes were significantly different in comparison to RTK GCPs.<\/SPAN><\/SPAN><\/P><\/DIV><\/DIV><\/DIV>",
"extent": {
"xmin": -9121314.905701824,
"ymin": 3593996.3378858543,
"xmax": -8987290.224858541,
"ymax": 3795569.361873662,
"spatialReference": {
"wkid": 102100,
"latestWkid": 3857
}
},
"initialExtent": {
"xmin": -9121314.905701824,
"ymin": 3593996.3378858543,
"xmax": -8987290.224858541,
"ymax": 3795569.361873662,
"spatialReference": {
"wkid": 102100,
"latestWkid": 3857
}
},
"fullExtent": {
"xmin": -9121314.905701824,
"ymin": 3593996.3378858543,
"xmax": -8987290.224858541,
"ymax": 3795569.361873662,
"spatialReference": {
"wkid": 102100,
"latestWkid": 3857
}
},
"sortableFields": "",
"bandCount": 1,
"pixelType": "F32",
"minValues": [
-144.32000732422
],
"maxValues": [
135.36000061035
],
"meanValues": [
4.3502458987085
],
"stdvValues": [
15.26283598374
],
"hasMultidimensions": false,
"pixelSizeX": 4.000020320040664,
"pixelSizeY": 4.000020320040637,
"meanPixelSize": 4.000020320040651,
"datasetFormat": "IMAGINE Image",
"uncompressedSize": 6753871432,
"blockWidth": 64,
"blockHeight": 64,
"compressionType": "None",
"bandNames": [
"Layer_1"
],
"allowCopy": true,
"allowAnalysis": true,
"itemAccess": false,
"inspectionCapabilities": "",
"noDataValue": -3.4028234663852886E38,
"noDataValues": [
-3.4028234663852886E38
],
"minPixelSize": 0.2985821416476167,
"maxPixelSize": 2445.98490512499,
"copyrightText": "Christine Hladik",
"serviceDataType": "esriImageServiceDataTypeGeneric",
"serviceSourceType": "esriImageServiceSourceTypeDataset",
"objectIdField": "",
"fields": [],
"capabilities": "Image,Metadata,Mensuration",
"defaultMosaicMethod": "Center",
"allowedMosaicMethods": "",
"sortField": "",
"sortValue": null,
"sortAscending": true,
"mosaicOperator": "First",
"defaultCompressionQuality": 75,
"defaultResamplingMethod": "Bilinear",
"maxImageHeight": 4100,
"maxImageWidth": 15000,
"singleFusedMapCache": true,
"tileInfo": {
"rows": 256,
"cols": 256,
"dpi": 96,
"format": "MIXED",
"compressionQuality": 75,
"origin": {
"x": -2.0037508342787E7,
"y": 2.0037508342787E7
},
"spatialReference": {
"wkid": 102100,
"latestWkid": 3857
},
"lods": [
{
"level": 0,
"resolution": 156543.03392800014,
"scale": 5.91657527591555E8
},
{
"level": 1,
"resolution": 78271.51696399994,
"scale": 2.95828763795777E8
},
{
"level": 2,
"resolution": 39135.75848200009,
"scale": 1.47914381897889E8
},
{
"level": 3,
"resolution": 19567.87924099992,
"scale": 7.3957190948944E7
},
{
"level": 4,
"resolution": 9783.93962049996,
"scale": 3.6978595474472E7
},
{
"level": 5,
"resolution": 4891.96981024998,
"scale": 1.8489297737236E7
},
{
"level": 6,
"resolution": 2445.98490512499,
"scale": 9244648.868618
},
{
"level": 7,
"resolution": 1222.992452562495,
"scale": 4622324.434309
},
{
"level": 8,
"resolution": 611.4962262813797,
"scale": 2311162.217155
},
{
"level": 9,
"resolution": 305.74811314055756,
"scale": 1155581.108577
},
{
"level": 10,
"resolution": 152.87405657041106,
"scale": 577790.554289
},
{
"level": 11,
"resolution": 76.43702828507324,
"scale": 288895.277144
},
{
"level": 12,
"resolution": 38.21851414253662,
"scale": 144447.638572
},
{
"level": 13,
"resolution": 19.10925707126831,
"scale": 72223.819286
},
{
"level": 14,
"resolution": 9.554628535634155,
"scale": 36111.909643
},
{
"level": 15,
"resolution": 4.77731426794937,
"scale": 18055.954822
},
{
"level": 16,
"resolution": 2.388657133974685,
"scale": 9027.977411
},
{
"level": 17,
"resolution": 1.1943285668550503,
"scale": 4513.988705
},
{
"level": 18,
"resolution": 0.5971642835598172,
"scale": 2256.994353
},
{
"level": 19,
"resolution": 0.29858214164761665,
"scale": 1128.497176
}
]
},
"storageInfo": {
"storageFormat": "esriMapCacheStorageModeCompactV2",
"packetSize": 128
},
"cacheType": "Map",
"allowRasterFunction": true,
"rasterFunctionInfos": [
{
"name": "None",
"description": "",
"help": ""
}
],
"rasterTypeInfos": [
{
"name": "Raster Dataset",
"description": "Supports all ArcGIS Raster Datasets",
"help": ""
}
],
"mensurationCapabilities": "Basic",
"hasHistograms": true,
"hasColormap": false,
"hasRasterAttributeTable": false,
"minScale": 9244648.868618,
"maxScale": 1128.497176,
"exportTilesAllowed": false,
"supportsStatistics": false,
"supportsAdvancedQueries": false,
"editFieldsInfo": null,
"ownershipBasedAccessControlForRasters": null,
"allowComputeTiePoints": false,
"useStandardizedQueries": true,
"advancedQueryCapabilities": {
"useStandardizedQueries": true,
"supportsStatistics": false,
"supportsOrderBy": false,
"supportsDistinct": false,
"supportsPagination": false
},
"spatialReference": {
"wkid": 102100,
"latestWkid": 3857
}
}