<?xml version="1.0" encoding="UTF-8" standalone="no"?>
<metadata xml:lang="en">
<Esri>
<CreaDate>20151116</CreaDate>
<CreaTime>10583100</CreaTime>
<ArcGISFormat>1.0</ArcGISFormat>
<SyncOnce>FALSE</SyncOnce>
<DataProperties>
<itemProps>
<itemName Sync="TRUE">DEMWaterLand.img</itemName>
<imsContentType Sync="TRUE">002</imsContentType>
<nativeExtBox>
<westBL Sync="TRUE">-9121314.905702</westBL>
<eastBL Sync="TRUE">-8987290.224859</eastBL>
<southBL Sync="TRUE">3593996.337886</southBL>
<northBL Sync="TRUE">3795569.361874</northBL>
<exTypeCode Sync="TRUE">1</exTypeCode>
</nativeExtBox>
</itemProps>
<coordRef>
<type Sync="TRUE">Projected</type>
<geogcsn Sync="TRUE">GCS_WGS_1984</geogcsn>
<csUnits Sync="TRUE">Linear Unit: Meter (1.000000)</csUnits>
<projcsn Sync="TRUE">WGS_1984_Web_Mercator_Auxiliary_Sphere</projcsn>
<peXml Sync="TRUE">&lt;ProjectedCoordinateSystem xsi:type='typens:ProjectedCoordinateSystem' xmlns:xsi='http://www.w3.org/2001/XMLSchema-instance' xmlns:xs='http://www.w3.org/2001/XMLSchema' xmlns:typens='http://www.esri.com/schemas/ArcGIS/10.1'&gt;&lt;WKT&gt;PROJCS[&amp;quot;WGS_1984_Web_Mercator_Auxiliary_Sphere&amp;quot;,GEOGCS[&amp;quot;GCS_WGS_1984&amp;quot;,DATUM[&amp;quot;D_WGS_1984&amp;quot;,SPHEROID[&amp;quot;WGS_1984&amp;quot;,6378137.0,298.257223563]],PRIMEM[&amp;quot;Greenwich&amp;quot;,0.0],UNIT[&amp;quot;Degree&amp;quot;,0.0174532925199433]],PROJECTION[&amp;quot;Mercator_Auxiliary_Sphere&amp;quot;],PARAMETER[&amp;quot;False_Easting&amp;quot;,0.0],PARAMETER[&amp;quot;False_Northing&amp;quot;,0.0],PARAMETER[&amp;quot;Central_Meridian&amp;quot;,0.0],PARAMETER[&amp;quot;Standard_Parallel_1&amp;quot;,0.0],PARAMETER[&amp;quot;Auxiliary_Sphere_Type&amp;quot;,0.0],UNIT[&amp;quot;Meter&amp;quot;,1.0],AUTHORITY[&amp;quot;EPSG&amp;quot;,3857]]&lt;/WKT&gt;&lt;XOrigin&gt;-20037700&lt;/XOrigin&gt;&lt;YOrigin&gt;-30241100&lt;/YOrigin&gt;&lt;XYScale&gt;148923141.92838538&lt;/XYScale&gt;&lt;ZOrigin&gt;-100000&lt;/ZOrigin&gt;&lt;ZScale&gt;10000&lt;/ZScale&gt;&lt;MOrigin&gt;-100000&lt;/MOrigin&gt;&lt;MScale&gt;10000&lt;/MScale&gt;&lt;XYTolerance&gt;0.001&lt;/XYTolerance&gt;&lt;ZTolerance&gt;0.001&lt;/ZTolerance&gt;&lt;MTolerance&gt;0.001&lt;/MTolerance&gt;&lt;HighPrecision&gt;true&lt;/HighPrecision&gt;&lt;WKID&gt;102100&lt;/WKID&gt;&lt;LatestWKID&gt;3857&lt;/LatestWKID&gt;&lt;/ProjectedCoordinateSystem&gt;</peXml>
</coordRef>
<RasterProperties>
<General>
<PixelDepth Sync="TRUE">32</PixelDepth>
<HasColormap Sync="TRUE">FALSE</HasColormap>
<CompressionType Sync="TRUE">None</CompressionType>
<NumBands Sync="TRUE">1</NumBands>
<Format Sync="TRUE">IMAGINE Image</Format>
<HasPyramids Sync="TRUE">TRUE</HasPyramids>
<SourceType Sync="TRUE">continuous</SourceType>
<PixelType Sync="TRUE">floating point</PixelType>
<NoDataValue Sync="TRUE">-3.4028235e+038</NoDataValue>
</General>
</RasterProperties>
</DataProperties>
<SyncDate>20151117</SyncDate>
<SyncTime>19195400</SyncTime>
<ModDate>20151117</ModDate>
<ModTime>19195400</ModTime>
<scaleRange>
<minScale>150000000</minScale>
<maxScale>5000</maxScale>
</scaleRange>
<ArcGISProfile>FGDC</ArcGISProfile>
<ArcGISstyle>FGDC CSDGM Metadata</ArcGISstyle>
</Esri>
<dataIdInfo>
<envirDesc Sync="TRUE"> Version 6.2 (Build 9200) ; Esri ArcGIS 10.2.2.3552</envirDesc>
<dataLang>
<languageCode Sync="TRUE" value="eng">
</languageCode>
<countryCode Sync="TRUE" value="USA">
</countryCode>
</dataLang>
<idCitation>
<resTitle Sync="TRUE">DEMWaterLand.img</resTitle>
<presForm>
<PresFormCd Sync="TRUE" value="005">
</PresFormCd>
</presForm>
<citRespParty>
<rpIndName>Christine Hladik</rpIndName>
<rpOrgName>Georgia Southern University </rpOrgName>
<rpPosName>Assistant Professor</rpPosName>
<role>
<RoleCd value="006">
</RoleCd>
</role>
<rpCntInfo>
<cntAddress addressType="postal">
<delPoint>PO Box 8149</delPoint>
<city>Statesboro</city>
<adminArea>GA</adminArea>
<postCode>30460</postCode>
<eMailAdd>chladik@georgiasouthern.edu</eMailAdd>
<country>US</country>
</cntAddress>
<cntPhone>
<voiceNum tddtty="">9124780338</voiceNum>
</cntPhone>
</rpCntInfo>
</citRespParty>
<date>
<createDate>2015-09-01T00:00:00</createDate>
<pubDate>2015-10-13T00:00:00</pubDate>
</date>
</idCitation>
<spatRpType>
<SpatRepTypCd Sync="TRUE" value="002">
</SpatRepTypCd>
</spatRpType>
<dataExt>
<geoEle>
<GeoBndBox esriExtentType="search">
<exTypeCode Sync="TRUE">1</exTypeCode>
<westBL Sync="TRUE">-81.938166</westBL>
<eastBL Sync="TRUE">-80.734202</eastBL>
<northBL Sync="TRUE">32.245422</northBL>
<southBL Sync="TRUE">30.701135</southBL>
</GeoBndBox>
</geoEle>
<exDesc>The LIDAR data for three of the coastal Georgia counties (Bryan, McIntosh, and Camden) were collected from January to March 2010 as part of the Coastal Georgia Elevation Project (CGEP), a partnership between the Coastal Regional Commission, United States Geological Survey (USGS), FEMA, National Oceanic and Atmospheric Administration (NOAA), Georgia Department of Natural Resources (DNR) Coastal Zone Management Program, Savannah Area Geographic Information System (SAGIS), and local governments. Additional LIDAR data were collected separately by Chatham (February 2006), Liberty (March 2006), and Glynn (Mar-April 2001) counties. </exDesc>
<tempEle>
<TempExtent>
<exTemp>
<TM_Period>
<tmBegin>2012-12-01T00:00:00</tmBegin>
<tmEnd>2013-02-28T00:00:00</tmEnd>
</TM_Period>
</exTemp>
</TempExtent>
</tempEle>
</dataExt>
<idPurp>The purpose of this study was to access the accuracy of a LIDAR-derived DEM using RTK ground control points, derive correction factors, and modify the DEM by...</idPurp>
<idAbs>&lt;DIV STYLE="text-align:Left;"&gt;&lt;DIV&gt;&lt;DIV&gt;&lt;P STYLE="margin:0 0 11 0;"&gt;&lt;SPAN&gt;&lt;SPAN&gt;To assess the accuracy of the LIDAR-derived DEM the DEM was compared to the RTK ground truth training data at 297 locations to calculate the mean vertical error. We developed habitat-specific correction factors for six cover classes: &lt;/SPAN&gt;&lt;/SPAN&gt;&lt;SPAN&gt;&lt;SPAN&gt;three height classes of &lt;/SPAN&gt;&lt;/SPAN&gt;&lt;SPAN STYLE="font-style:italic;"&gt;&lt;SPAN&gt;Spartina alterniflora &lt;/SPAN&gt;&lt;/SPAN&gt;&lt;SPAN&gt;&lt;SPAN&gt;(tall, medium, short); &lt;/SPAN&gt;&lt;/SPAN&gt;&lt;SPAN STYLE="font-style:italic;"&gt;&lt;SPAN&gt;Juncus roemerianus/Schoenoplectus spp.&lt;/SPAN&gt;&lt;/SPAN&gt;&lt;SPAN&gt;&lt;SPAN&gt;; &lt;/SPAN&gt;&lt;/SPAN&gt;&lt;SPAN STYLE="font-style:italic;"&gt;&lt;SPAN&gt;Spartina cynosuroides/Schoenoplectus tabernaemontani&lt;/SPAN&gt;&lt;/SPAN&gt;&lt;SPAN&gt;&lt;SPAN&gt;; and marsh meadow (&lt;/SPAN&gt;&lt;/SPAN&gt;&lt;SPAN STYLE="font-style:italic;"&gt;&lt;SPAN&gt;Salicornia virginica&lt;/SPAN&gt;&lt;/SPAN&gt;&lt;SPAN&gt;&lt;SPAN&gt;(&lt;/SPAN&gt;&lt;/SPAN&gt;&lt;SPAN STYLE="font-style:italic;"&gt;&lt;SPAN&gt;Sarcoconia sp.&lt;/SPAN&gt;&lt;/SPAN&gt;&lt;SPAN&gt;&lt;SPAN&gt;), &lt;/SPAN&gt;&lt;/SPAN&gt;&lt;SPAN STYLE="font-style:italic;"&gt;&lt;SPAN&gt;Distichlis spicata&lt;/SPAN&gt;&lt;/SPAN&gt;&lt;SPAN&gt;&lt;SPAN&gt;, &lt;/SPAN&gt;&lt;/SPAN&gt;&lt;SPAN STYLE="font-style:italic;"&gt;&lt;SPAN&gt;Batis maritima)&lt;/SPAN&gt;&lt;/SPAN&gt;&lt;SPAN&gt;&lt;SPAN&gt;. Class-specific correction factors were derived from the RTK training data set by subtracting the surveyed RTK elevation from the DEM elevation at the corresponding x/y coordinate of each GCP and represented the mean error for each cover class. The, overall mean vertical error the unmodified DEM was was 0.44 ft (fundamental vertical accuracy (FVA) of 1.54 ft), over predicting ground elevations. The mean errors for the different dominant species cover classes ranged from -0.13 (marsh meadow) to 0.90 ft (&lt;/SPAN&gt;&lt;/SPAN&gt;&lt;SPAN STYLE="font-style:italic;"&gt;&lt;SPAN&gt;J. roemerianus/ Schoenoplectus spp.&lt;/SPAN&gt;&lt;/SPAN&gt;&lt;SPAN&gt;&lt;SPAN&gt;), with taller vegetation having larger errors.&lt;/SPAN&gt;&lt;/SPAN&gt;&lt;/P&gt;&lt;P STYLE="margin:0 0 11 0;"&gt;&lt;SPAN&gt;&lt;SPAN&gt;The habitat classification was combined with the unmodified LIDAR-derived DEMs and the DEM correction factors to correct the DEMs (on a habitat classification pixel-pixel basis). Following the method described in Hladik and Alber (2012), the habitat classification raster was brought into ArcGIS. Next, the random forest classified raster was reclassed by assigning a habitat-specific correction factor to each dominant class. The mud and unvegetated classes were given a correction factor of zero. This produced a “Correction Factor” DEM with values corresponding to the dominant class-specific correction factors. The “Correction Factor” DEM was then subtracted from the “Unmodified” DEM using the Raster Math tool in ArcGIS (Spatial Analyst toolbox) to produce a “Modified” DEM. The application of the derived correction factors and subsequent DEM modification based on the random forest classification were successful and greatly improved the accuracy of the LIDAR-derived DEM, reducing the overall mean DEM error from 0.40 to -0.07 ft and the FVA from 1.68 to 1.42 ft based on the reserved RTK validation data (N=299),. The slight negative value for the overall error indicates that the correction factors produced a DEM surface that was slightly lower than RTK elevations, but no classes were significantly different in comparison to RTK GCPs.&lt;/SPAN&gt;&lt;/SPAN&gt;&lt;/P&gt;&lt;/DIV&gt;&lt;/DIV&gt;&lt;/DIV&gt;</idAbs>
<idCredit>Christine Hladik</idCredit>
<searchKeys>
<keyword>Remote sensing</keyword>
<keyword>Digital Elevation Model (DEM)</keyword>
<keyword>Light detection and ranging (LIDAR)</keyword>
<keyword>tidal marshes</keyword>
<keyword>accuracy assessment</keyword>
</searchKeys>
<dataChar>
<CharSetCd value="004">
</CharSetCd>
</dataChar>
<idStatus>
<ProgCd value="001">
</ProgCd>
</idStatus>
<resMaint>
<maintFreq>
<MaintFreqCd value="009">
</MaintFreqCd>
</maintFreq>
</resMaint>
<resConst>
<Consts>
<useLimit/>
</Consts>
</resConst>
</dataIdInfo>
<mdLang>
<languageCode Sync="TRUE" value="eng">
</languageCode>
<countryCode Sync="TRUE" value="USA">
</countryCode>
</mdLang>
<mdChar>
<CharSetCd Sync="TRUE" value="004">
</CharSetCd>
</mdChar>
<distInfo>
<distFormat>
<formatName Sync="TRUE">Raster Dataset</formatName>
<formatVer>1</formatVer>
</distFormat>
</distInfo>
<mdHrLv>
<ScopeCd Sync="TRUE" value="005">
</ScopeCd>
</mdHrLv>
<mdHrLvName Sync="TRUE">dataset</mdHrLvName>
<refSysInfo>
<RefSystem>
<refSysID>
<identCode Sync="TRUE" code="3857">
</identCode>
<idCodeSpace Sync="TRUE">EPSG</idCodeSpace>
<idVersion Sync="TRUE">8.2.6</idVersion>
</refSysID>
</RefSystem>
</refSysInfo>
<spatRepInfo>
<Georect>
<cellGeo>
<CellGeoCd Sync="TRUE" value="002">
</CellGeoCd>
</cellGeo>
<numDims Sync="TRUE">2</numDims>
<tranParaAv Sync="TRUE">1</tranParaAv>
<chkPtAv Sync="TRUE">0</chkPtAv>
<cornerPts>
<pos Sync="TRUE">-9121314.905702 3593996.337886</pos>
</cornerPts>
<cornerPts>
<pos Sync="TRUE">-9121314.905702 3795569.361874</pos>
</cornerPts>
<cornerPts>
<pos Sync="TRUE">-8987290.224859 3795569.361874</pos>
</cornerPts>
<cornerPts>
<pos Sync="TRUE">-8987290.224859 3593996.337886</pos>
</cornerPts>
<centerPt>
<pos Sync="TRUE">-9054302.565280 3694782.849880</pos>
</centerPt>
<axisDimension type="002">
<dimSize Sync="TRUE">33506</dimSize>
<dimResol>
<value Sync="TRUE" uom="Meter">4.000020</value>
</dimResol>
</axisDimension>
<axisDimension type="001">
<dimSize Sync="TRUE">50393</dimSize>
<dimResol>
<value Sync="TRUE" uom="Meter">4.000020</value>
</dimResol>
</axisDimension>
<ptInPixel>
<PixOrientCd Sync="TRUE" value="001">
</PixOrientCd>
</ptInPixel>
</Georect>
</spatRepInfo>
<contInfo>
<ImgDesc>
<contentTyp>
<ContentTypCd Sync="TRUE" value="001">
</ContentTypCd>
</contentTyp>
<covDim>
<Band>
<dimDescrp Sync="TRUE">Layer_1</dimDescrp>
<maxVal Sync="TRUE">135.360001</maxVal>
<minVal Sync="TRUE">-144.320007</minVal>
<bitsPerVal Sync="TRUE">32</bitsPerVal>
<valUnit>
<UOM gmlID="" type="length">
<unitSymbol>[ft_us]</unitSymbol>
</UOM>
</valUnit>
</Band>
</covDim>
<attDesc>Elevation</attDesc>
<trianInd>False</trianInd>
<radCalDatAv>False</radCalDatAv>
<camCalInAv>False</camCalInAv>
<filmDistInAv>False</filmDistInAv>
<lensDistInAv>False</lensDistInAv>
</ImgDesc>
</contInfo>
<mdDateSt Sync="TRUE">20151117</mdDateSt>
<mdContact>
<rpIndName>Christine Hladik</rpIndName>
<rpOrgName>Georgia Southern University </rpOrgName>
<rpPosName>Assistant Professor</rpPosName>
<role>
<RoleCd value="006">
</RoleCd>
</role>
<rpCntInfo>
<cntAddress addressType="postal">
<delPoint>PO Box 8149</delPoint>
<city>Statesboro</city>
<adminArea>GA</adminArea>
<postCode>30460</postCode>
<eMailAdd>chladik@georgiasouthern.edu</eMailAdd>
<country>US</country>
</cntAddress>
<cntPhone>
<voiceNum tddtty="">9124780338</voiceNum>
</cntPhone>
</rpCntInfo>
<displayName>Christine Hladik</displayName>
</mdContact>
</metadata>
